BEGIN:VCALENDAR
VERSION:2.0
PRODID:-//Kinbridge Community Association - ECPv6.15.20//NONSGML v1.0//EN
CALSCALE:GREGORIAN
METHOD:PUBLISH
X-ORIGINAL-URL:https://www.kinbridge.ca
X-WR-CALDESC:Events for Kinbridge Community Association
REFRESH-INTERVAL;VALUE=DURATION:PT1H
X-Robots-Tag:noindex
X-PUBLISHED-TTL:PT1H
BEGIN:VTIMEZONE
TZID:UTC
BEGIN:STANDARD
TZOFFSETFROM:+0000
TZOFFSETTO:+0000
TZNAME:UTC
DTSTART:20240101T000000
END:STANDARD
END:VTIMEZONE
BEGIN:VEVENT
DTSTART;TZID=UTC:20251021T164500
DTEND;TZID=UTC:20251021T180000
DTSTAMP:20260420T071631
CREATED:20251015T163645Z
LAST-MODIFIED:20251015T163645Z
UID:10006300-1761065100-1761069600@www.kinbridge.ca
SUMMARY:Little Sports Fan (4-7)
DESCRIPTION:For our younger participants\, find your active sports passion! Ages 4-7 are welcome to explore new sports where we will introduce rules\, sportsmanship and make friends every week.\nEvery Tuesday starting October 21st!\nRegister on Campbrain https://kinbridgecommunityassociation.campbrainregistration.com/\n@greenwaychaplin \n🌟Youth-led programs\n🌟Hi-five Accredited programs
URL:https://www.kinbridge.ca/event/little-sports-fan-4-7/2025-10-21/
LOCATION:Main\, 200 Christopher Drive\, Cambridge\, ontario\, Canada
CATEGORIES:Youth and Child Recreation
ATTACH;FMTTYPE=image/jpeg:https://www.kinbridge.ca/wp-content/uploads/2025/10/little-sports-fan.jpg
END:VEVENT
BEGIN:VEVENT
DTSTART;TZID=UTC:20251021T170000
DTEND;TZID=UTC:20251021T183000
DTSTAMP:20260420T071631
CREATED:20250918T185708Z
LAST-MODIFIED:20250918T192151Z
UID:10006218-1761066000-1761071400@www.kinbridge.ca
SUMMARY:Mini Chefs (4-8)
DESCRIPTION:You can become a chef too! All ingredients included. Young learners get a chance to cook in the kitchen\, learn all about kitchen safety and assemble their own meals to take home! This is a great opportunity for young learners to grow their culinary skills. \nMust register
URL:https://www.kinbridge.ca/event/mini-chefs-4-8/2025-10-21/
LOCATION:Main\, 200 Christopher Drive\, Cambridge\, ontario\, Canada
CATEGORIES:Youth and Child Recreation
ATTACH;FMTTYPE=image/png:https://www.kinbridge.ca/wp-content/uploads/2024/11/drop-in-ccrc-mini-chef.png
END:VEVENT
BEGIN:VEVENT
DTSTART;TZID=UTC:20251021T180000
DTEND;TZID=UTC:20251021T193000
DTSTAMP:20260420T071631
CREATED:20250918T192803Z
LAST-MODIFIED:20250918T192803Z
UID:10006226-1761069600-1761075000@www.kinbridge.ca
SUMMARY:Skills & Drills Soccer (8-12)
DESCRIPTION:Learn valuable soccer skills\, techniques and methods. We will coach you to be the best soccer player you can be! Weekly games will help you incorporate skills in practical ways. Be sure to bring appropriate clothes and shoes. \nMust Register
URL:https://www.kinbridge.ca/event/skills-drills-soccer-8-12/2025-10-21/
LOCATION:Main\, 200 Christopher Drive\, Cambridge\, ontario\, Canada
CATEGORIES:Youth and Child Recreation
ATTACH;FMTTYPE=image/png:https://www.kinbridge.ca/wp-content/uploads/2024/03/soccer-bootcamp.png
END:VEVENT
END:VCALENDAR