BEGIN:VCALENDAR
VERSION:2.0
PRODID:-//Kinbridge Community Association - ECPv6.15.20//NONSGML v1.0//EN
CALSCALE:GREGORIAN
METHOD:PUBLISH
X-WR-CALNAME:Kinbridge Community Association
X-ORIGINAL-URL:https://www.kinbridge.ca
X-WR-CALDESC:Events for Kinbridge Community Association
REFRESH-INTERVAL;VALUE=DURATION:PT1H
X-Robots-Tag:noindex
X-PUBLISHED-TTL:PT1H
BEGIN:VTIMEZONE
TZID:UTC
BEGIN:STANDARD
TZOFFSETFROM:+0000
TZOFFSETTO:+0000
TZNAME:UTC
DTSTART:20240101T000000
END:STANDARD
END:VTIMEZONE
BEGIN:VEVENT
DTSTART;TZID=UTC:20251013T183000
DTEND;TZID=UTC:20251013T200000
DTSTAMP:20260422T235714
CREATED:20250918T184806Z
LAST-MODIFIED:20250918T184806Z
UID:10006209-1760380200-1760385600@www.kinbridge.ca
SUMMARY:Central Sports (7-13)
DESCRIPTION:Join us for a fun night playing a variety of sports in the central public school gym! \nPlease bring indoor shoes and reusable water bottle. \nThis is a free program\, but you must register.
URL:https://www.kinbridge.ca/event/central-sports-7-13/2025-10-13/
LOCATION:Central Public School\, 175 Main St\, Cambridge\, Ontario\, N1R 1W5\, Canada
CATEGORIES:Youth and Child Recreation
ATTACH;FMTTYPE=image/png:https://www.kinbridge.ca/wp-content/uploads/2024/03/drop-in-sports-night.png
END:VEVENT
BEGIN:VEVENT
DTSTART;TZID=UTC:20251016T090000
DTEND;TZID=UTC:20251016T103000
DTSTAMP:20260422T235714
CREATED:20250918T195010Z
LAST-MODIFIED:20250918T195010Z
UID:10006282-1760605200-1760610600@www.kinbridge.ca
SUMMARY:Park Pop-Up (Young Mothers & Children)
DESCRIPTION:This is a fun outdoor program that supports young mothers and children. \nLet’s meet at Gail St. Park for some active and intentional time outside.
URL:https://www.kinbridge.ca/event/park-pop-up-young-mothers-children/2025-10-16/
LOCATION:Gail st park\, 120 Gail St\, Cambridge\, ontario\, N1R 4M4\, Canada
CATEGORIES:All Ages
ATTACH;FMTTYPE=image/png:https://www.kinbridge.ca/wp-content/uploads/2025/09/park.png
END:VEVENT
BEGIN:VEVENT
DTSTART;TZID=UTC:20251020T183000
DTEND;TZID=UTC:20251020T200000
DTSTAMP:20260422T235714
CREATED:20250918T184806Z
LAST-MODIFIED:20250918T184806Z
UID:10006210-1760985000-1760990400@www.kinbridge.ca
SUMMARY:Central Sports (7-13)
DESCRIPTION:Join us for a fun night playing a variety of sports in the central public school gym! \nPlease bring indoor shoes and reusable water bottle. \nThis is a free program\, but you must register.
URL:https://www.kinbridge.ca/event/central-sports-7-13/2025-10-20/
LOCATION:Central Public School\, 175 Main St\, Cambridge\, Ontario\, N1R 1W5\, Canada
CATEGORIES:Youth and Child Recreation
ATTACH;FMTTYPE=image/png:https://www.kinbridge.ca/wp-content/uploads/2024/03/drop-in-sports-night.png
END:VEVENT
BEGIN:VEVENT
DTSTART;TZID=UTC:20251023T090000
DTEND;TZID=UTC:20251023T103000
DTSTAMP:20260422T235714
CREATED:20250918T195010Z
LAST-MODIFIED:20250918T195010Z
UID:10006283-1761210000-1761215400@www.kinbridge.ca
SUMMARY:Park Pop-Up (Young Mothers & Children)
DESCRIPTION:This is a fun outdoor program that supports young mothers and children. \nLet’s meet at Gail St. Park for some active and intentional time outside.
URL:https://www.kinbridge.ca/event/park-pop-up-young-mothers-children/2025-10-23/
LOCATION:Gail st park\, 120 Gail St\, Cambridge\, ontario\, N1R 4M4\, Canada
CATEGORIES:All Ages
ATTACH;FMTTYPE=image/png:https://www.kinbridge.ca/wp-content/uploads/2025/09/park.png
END:VEVENT
BEGIN:VEVENT
DTSTART;TZID=UTC:20251027T170000
DTEND;TZID=UTC:20251027T183000
DTSTAMP:20260422T235714
CREATED:20250617T013230Z
LAST-MODIFIED:20250617T013230Z
UID:10006132-1761584400-1761589800@www.kinbridge.ca
SUMMARY:Cambridge Neighbourhood Table (Mondays @ Langs)
DESCRIPTION:Join us for a hot and fresh meal every 2nd and 4th Monday at Langs! \nWe will have activities and games available for children as well as a meal and table to gather around with community. These events are completely free! Join us and meet your neighbours!
URL:https://www.kinbridge.ca/event/cambridge-neighbourhood-table-mondays-langs-2/2025-10-27/
LOCATION:Neighbourhood at  Langs\, 1145 Concession Rd\, Cambridge\, Ontario\, Canada
CATEGORIES:Cambridge Neighbourhood Table,Events
ATTACH;FMTTYPE=image/png:https://www.kinbridge.ca/wp-content/uploads/2024/03/cnt.png
END:VEVENT
BEGIN:VEVENT
DTSTART;TZID=UTC:20251027T183000
DTEND;TZID=UTC:20251027T200000
DTSTAMP:20260422T235714
CREATED:20250918T184806Z
LAST-MODIFIED:20250918T184806Z
UID:10006211-1761589800-1761595200@www.kinbridge.ca
SUMMARY:Central Sports (7-13)
DESCRIPTION:Join us for a fun night playing a variety of sports in the central public school gym! \nPlease bring indoor shoes and reusable water bottle. \nThis is a free program\, but you must register.
URL:https://www.kinbridge.ca/event/central-sports-7-13/2025-10-27/
LOCATION:Central Public School\, 175 Main St\, Cambridge\, Ontario\, N1R 1W5\, Canada
CATEGORIES:Youth and Child Recreation
ATTACH;FMTTYPE=image/png:https://www.kinbridge.ca/wp-content/uploads/2024/03/drop-in-sports-night.png
END:VEVENT
BEGIN:VEVENT
DTSTART;TZID=UTC:20251030T090000
DTEND;TZID=UTC:20251030T103000
DTSTAMP:20260422T235714
CREATED:20250918T195010Z
LAST-MODIFIED:20250918T195010Z
UID:10006284-1761814800-1761820200@www.kinbridge.ca
SUMMARY:Park Pop-Up (Young Mothers & Children)
DESCRIPTION:This is a fun outdoor program that supports young mothers and children. \nLet’s meet at Gail St. Park for some active and intentional time outside.
URL:https://www.kinbridge.ca/event/park-pop-up-young-mothers-children/2025-10-30/
LOCATION:Gail st park\, 120 Gail St\, Cambridge\, ontario\, N1R 4M4\, Canada
CATEGORIES:All Ages
ATTACH;FMTTYPE=image/png:https://www.kinbridge.ca/wp-content/uploads/2025/09/park.png
END:VEVENT
END:VCALENDAR