BEGIN:VCALENDAR
VERSION:2.0
PRODID:-//Kinbridge Community Association - ECPv6.15.20//NONSGML v1.0//EN
CALSCALE:GREGORIAN
METHOD:PUBLISH
X-WR-CALNAME:Kinbridge Community Association
X-ORIGINAL-URL:https://www.kinbridge.ca
X-WR-CALDESC:Events for Kinbridge Community Association
REFRESH-INTERVAL;VALUE=DURATION:PT1H
X-Robots-Tag:noindex
X-PUBLISHED-TTL:PT1H
BEGIN:VTIMEZONE
TZID:UTC
BEGIN:STANDARD
TZOFFSETFROM:+0000
TZOFFSETTO:+0000
TZNAME:UTC
DTSTART:20240101T000000
END:STANDARD
END:VTIMEZONE
BEGIN:VEVENT
DTSTART;TZID=UTC:20251106T180000
DTEND;TZID=UTC:20251106T193000
DTSTAMP:20260420T231204
CREATED:20250918T193645Z
LAST-MODIFIED:20251015T190445Z
UID:10006244-1762452000-1762457400@www.kinbridge.ca
SUMMARY:Hot Shots Basketball (8-12)
DESCRIPTION:Are you a hot shot basketball player? \nWe will train you to be one! Learn new skills\, techniques and training methods for the beloved game of basketball! Please bring appropriate clothing and shoes. \n  \nMust Register!
URL:https://www.kinbridge.ca/event/hot-shots-basketball-8-12/2025-11-06/
LOCATION:Main\, 200 Christopher Drive\, Cambridge\, ontario\, Canada
CATEGORIES:Youth and Child Recreation
ATTACH;FMTTYPE=image/png:https://www.kinbridge.ca/wp-content/uploads/2024/11/drop-in-basketball.png
END:VEVENT
BEGIN:VEVENT
DTSTART;TZID=UTC:20251113T180000
DTEND;TZID=UTC:20251113T193000
DTSTAMP:20260420T231204
CREATED:20250918T193645Z
LAST-MODIFIED:20251015T190445Z
UID:10006245-1763056800-1763062200@www.kinbridge.ca
SUMMARY:Hot Shots Basketball (8-12)
DESCRIPTION:Are you a hot shot basketball player? \nWe will train you to be one! Learn new skills\, techniques and training methods for the beloved game of basketball! Please bring appropriate clothing and shoes. \n  \nMust Register!
URL:https://www.kinbridge.ca/event/hot-shots-basketball-8-12/2025-11-13/
LOCATION:Main\, 200 Christopher Drive\, Cambridge\, ontario\, Canada
CATEGORIES:Youth and Child Recreation
ATTACH;FMTTYPE=image/png:https://www.kinbridge.ca/wp-content/uploads/2024/11/drop-in-basketball.png
END:VEVENT
BEGIN:VEVENT
DTSTART;TZID=UTC:20251120T180000
DTEND;TZID=UTC:20251120T193000
DTSTAMP:20260420T231204
CREATED:20250918T193645Z
LAST-MODIFIED:20251015T190445Z
UID:10006246-1763661600-1763667000@www.kinbridge.ca
SUMMARY:Hot Shots Basketball (8-12)
DESCRIPTION:Are you a hot shot basketball player? \nWe will train you to be one! Learn new skills\, techniques and training methods for the beloved game of basketball! Please bring appropriate clothing and shoes. \n  \nMust Register!
URL:https://www.kinbridge.ca/event/hot-shots-basketball-8-12/2025-11-20/
LOCATION:Main\, 200 Christopher Drive\, Cambridge\, ontario\, Canada
CATEGORIES:Youth and Child Recreation
ATTACH;FMTTYPE=image/png:https://www.kinbridge.ca/wp-content/uploads/2024/11/drop-in-basketball.png
END:VEVENT
BEGIN:VEVENT
DTSTART;TZID=UTC:20251124T170000
DTEND;TZID=UTC:20251124T183000
DTSTAMP:20260420T231204
CREATED:20250617T013230Z
LAST-MODIFIED:20250617T013230Z
UID:10006133-1764003600-1764009000@www.kinbridge.ca
SUMMARY:Cambridge Neighbourhood Table (Mondays @ Langs)
DESCRIPTION:Join us for a hot and fresh meal every 2nd and 4th Monday at Langs! \nWe will have activities and games available for children as well as a meal and table to gather around with community. These events are completely free! Join us and meet your neighbours!
URL:https://www.kinbridge.ca/event/cambridge-neighbourhood-table-mondays-langs-2/2025-11-24/
LOCATION:Neighbourhood at  Langs\, 1145 Concession Rd\, Cambridge\, Ontario\, Canada
CATEGORIES:Cambridge Neighbourhood Table,Events
ATTACH;FMTTYPE=image/png:https://www.kinbridge.ca/wp-content/uploads/2024/03/cnt.png
END:VEVENT
BEGIN:VEVENT
DTSTART;TZID=UTC:20251127T180000
DTEND;TZID=UTC:20251127T193000
DTSTAMP:20260420T231204
CREATED:20250918T193645Z
LAST-MODIFIED:20251015T190445Z
UID:10006247-1764266400-1764271800@www.kinbridge.ca
SUMMARY:Hot Shots Basketball (8-12)
DESCRIPTION:Are you a hot shot basketball player? \nWe will train you to be one! Learn new skills\, techniques and training methods for the beloved game of basketball! Please bring appropriate clothing and shoes. \n  \nMust Register!
URL:https://www.kinbridge.ca/event/hot-shots-basketball-8-12/2025-11-27/
LOCATION:Main\, 200 Christopher Drive\, Cambridge\, ontario\, Canada
CATEGORIES:Youth and Child Recreation
ATTACH;FMTTYPE=image/png:https://www.kinbridge.ca/wp-content/uploads/2024/11/drop-in-basketball.png
END:VEVENT
END:VCALENDAR