BEGIN:VCALENDAR
VERSION:2.0
PRODID:-//Kinbridge Community Association - ECPv6.15.20//NONSGML v1.0//EN
CALSCALE:GREGORIAN
METHOD:PUBLISH
X-WR-CALNAME:Kinbridge Community Association
X-ORIGINAL-URL:https://www.kinbridge.ca
X-WR-CALDESC:Events for Kinbridge Community Association
REFRESH-INTERVAL;VALUE=DURATION:PT1H
X-Robots-Tag:noindex
X-PUBLISHED-TTL:PT1H
BEGIN:VTIMEZONE
TZID:UTC
BEGIN:STANDARD
TZOFFSETFROM:+0000
TZOFFSETTO:+0000
TZNAME:UTC
DTSTART:20240101T000000
END:STANDARD
END:VTIMEZONE
BEGIN:VEVENT
DTSTART;TZID=UTC:20251014T180000
DTEND;TZID=UTC:20251014T193000
DTSTAMP:20260424T064927
CREATED:20250918T192803Z
LAST-MODIFIED:20250918T192803Z
UID:10006225-1760464800-1760470200@www.kinbridge.ca
SUMMARY:Skills & Drills Soccer (8-12)
DESCRIPTION:Learn valuable soccer skills\, techniques and methods. We will coach you to be the best soccer player you can be! Weekly games will help you incorporate skills in practical ways. Be sure to bring appropriate clothes and shoes. \nMust Register
URL:https://www.kinbridge.ca/event/skills-drills-soccer-8-12/2025-10-14/
LOCATION:Main\, 200 Christopher Drive\, Cambridge\, ontario\, Canada
CATEGORIES:Youth and Child Recreation
ATTACH;FMTTYPE=image/png:https://www.kinbridge.ca/wp-content/uploads/2024/03/soccer-bootcamp.png
END:VEVENT
BEGIN:VEVENT
DTSTART;TZID=UTC:20251016T170000
DTEND;TZID=UTC:20251016T180000
DTSTAMP:20260424T064927
CREATED:20250918T193227Z
LAST-MODIFIED:20250918T193227Z
UID:10006233-1760634000-1760637600@www.kinbridge.ca
SUMMARY:Craft Club (4-10)
DESCRIPTION:Get Crafty with us! \nJoin us every Thursday as we get creative. Take your fun crafts home with you! Make new friends and express yourself. c
URL:https://www.kinbridge.ca/event/craft-club-4-10/2025-10-16/
LOCATION:Main\, 200 Christopher Drive\, Cambridge\, ontario\, Canada
CATEGORIES:Youth and Child Recreation
ATTACH;FMTTYPE=image/png:https://www.kinbridge.ca/wp-content/uploads/2024/03/craft-club.png
END:VEVENT
BEGIN:VEVENT
DTSTART;TZID=UTC:20251021T180000
DTEND;TZID=UTC:20251021T193000
DTSTAMP:20260424T064927
CREATED:20250918T192803Z
LAST-MODIFIED:20250918T192803Z
UID:10006226-1761069600-1761075000@www.kinbridge.ca
SUMMARY:Skills & Drills Soccer (8-12)
DESCRIPTION:Learn valuable soccer skills\, techniques and methods. We will coach you to be the best soccer player you can be! Weekly games will help you incorporate skills in practical ways. Be sure to bring appropriate clothes and shoes. \nMust Register
URL:https://www.kinbridge.ca/event/skills-drills-soccer-8-12/2025-10-21/
LOCATION:Main\, 200 Christopher Drive\, Cambridge\, ontario\, Canada
CATEGORIES:Youth and Child Recreation
ATTACH;FMTTYPE=image/png:https://www.kinbridge.ca/wp-content/uploads/2024/03/soccer-bootcamp.png
END:VEVENT
BEGIN:VEVENT
DTSTART;TZID=UTC:20251023T170000
DTEND;TZID=UTC:20251023T180000
DTSTAMP:20260424T064927
CREATED:20250918T193227Z
LAST-MODIFIED:20250918T193227Z
UID:10006234-1761238800-1761242400@www.kinbridge.ca
SUMMARY:Craft Club (4-10)
DESCRIPTION:Get Crafty with us! \nJoin us every Thursday as we get creative. Take your fun crafts home with you! Make new friends and express yourself. c
URL:https://www.kinbridge.ca/event/craft-club-4-10/2025-10-23/
LOCATION:Main\, 200 Christopher Drive\, Cambridge\, ontario\, Canada
CATEGORIES:Youth and Child Recreation
ATTACH;FMTTYPE=image/png:https://www.kinbridge.ca/wp-content/uploads/2024/03/craft-club.png
END:VEVENT
BEGIN:VEVENT
DTSTART;TZID=UTC:20251024T183000
DTEND;TZID=UTC:20251024T203000
DTSTAMP:20260424T064927
CREATED:20250918T195659Z
LAST-MODIFIED:20250924T170646Z
UID:10006290-1761330600-1761337800@www.kinbridge.ca
SUMMARY:Monster Mash-Bash! Halloween Dance (Grades 7-12)
DESCRIPTION:🎃 Join us for the ultimate Monster Bash! 👻 \nDress up in your spookiest\, silliest\, or most creative costume and dance the night away to fang-tastic tunes. Bring your friends and get ready for a frightfully fun night! Be there or be scared! \nThere will be a concession stand\, costume contest\, and thrilling games. \nWe will see you from 6:30-8:30p at Elgin St Public School! \nContact: \nJordanf@greenwaychaplin.com \n(519) 623-4220 \n 
URL:https://www.kinbridge.ca/event/monster-mash-bash-halloween-dance-grades-7-12/
LOCATION:elgin public school\, 685 Elgin St. N\, Cambridge\, Canada
CATEGORIES:Events,Youth and Child Recreation
ATTACH;FMTTYPE=image/png:https://www.kinbridge.ca/wp-content/uploads/2025/09/Fall-Programming-Guide-2025.png
END:VEVENT
BEGIN:VEVENT
DTSTART;TZID=UTC:20251028T180000
DTEND;TZID=UTC:20251028T193000
DTSTAMP:20260424T064927
CREATED:20250918T192803Z
LAST-MODIFIED:20250918T192803Z
UID:10006227-1761674400-1761679800@www.kinbridge.ca
SUMMARY:Skills & Drills Soccer (8-12)
DESCRIPTION:Learn valuable soccer skills\, techniques and methods. We will coach you to be the best soccer player you can be! Weekly games will help you incorporate skills in practical ways. Be sure to bring appropriate clothes and shoes. \nMust Register
URL:https://www.kinbridge.ca/event/skills-drills-soccer-8-12/2025-10-28/
LOCATION:Main\, 200 Christopher Drive\, Cambridge\, ontario\, Canada
CATEGORIES:Youth and Child Recreation
ATTACH;FMTTYPE=image/png:https://www.kinbridge.ca/wp-content/uploads/2024/03/soccer-bootcamp.png
END:VEVENT
BEGIN:VEVENT
DTSTART;TZID=UTC:20251030T170000
DTEND;TZID=UTC:20251030T180000
DTSTAMP:20260424T064927
CREATED:20250918T193227Z
LAST-MODIFIED:20250918T193227Z
UID:10006235-1761843600-1761847200@www.kinbridge.ca
SUMMARY:Craft Club (4-10)
DESCRIPTION:Get Crafty with us! \nJoin us every Thursday as we get creative. Take your fun crafts home with you! Make new friends and express yourself. c
URL:https://www.kinbridge.ca/event/craft-club-4-10/2025-10-30/
LOCATION:Main\, 200 Christopher Drive\, Cambridge\, ontario\, Canada
CATEGORIES:Youth and Child Recreation
ATTACH;FMTTYPE=image/png:https://www.kinbridge.ca/wp-content/uploads/2024/03/craft-club.png
END:VEVENT
END:VCALENDAR